BEGIN:VCALENDAR
PRODID:-//PUBBLE//agenda//NL
VERSION:2.0
METHOD:PUBLISH
BEGIN:VEVENT
DTSTART:20250519T160000Z
DTEND:20250522T180000Z
DTSTAMP:20260420T140714Z
UID:3cbd11c8-1ca1-4f31-9977-f0c6f1ba3bd1
CREATED:20260420T140714Z
NAME:Avondvierdaagse Nunspeet nunspeethuisaanhuis.nl
X-WR-CALNAME:Avondvierdaagse Nunspeet
X-ALT-DESC;FMTTYPE=text/html:<a href='/agenda/2025/5/19/avondvierdaagse-nunspeet-44623'>/agenda/2025/5/19/avondvierdaagse-nunspeet-44623</a> || <p>De 56e editie van de Avondvierdaagse te Nunspeet start vanaf het gemeentehuis in Nunspeet. Er kan 4 dagen gewandeld worden in de afstanden 2,5 km, 5 km en 7,5 km.</p>
DESCRIPTION:<a href='/agenda/2025/5/19/avondvierdaagse-nunspeet-44623'>/agenda/2025/5/19/avondvierdaagse-nunspeet-44623</a> || <p>De 56e editie van de Avondvierdaagse te Nunspeet start vanaf het gemeentehuis in Nunspeet. Er kan 4 dagen gewandeld worden in de afstanden 2,5 km, 5 km en 7,5 km.</p>
LAST-MODIFIED:20260420T140714Z
LOCATION: Gemeentehuis Nunspeet | Markt 1 Nunspeet
SEQUENCE:0
STATUS:CONFIRMED
SUMMARY:Avondvierdaagse Nunspeet
TRANSP:OPAQUE
END:VEVENT
END:VCALENDAR
