BEGIN:VCALENDAR
PRODID:-//PUBBLE//agenda//NL
VERSION:2.0
METHOD:PUBLISH
BEGIN:VEVENT
DTSTART:20260319T100000Z
DTEND:20260319T110000Z
DTSTAMP:20260422T205214Z
UID:ccb5ca9a-6652-4fba-8c93-c54bf667ae05
CREATED:20260422T205214Z
NAME:Gezamenlijke maaltijd nunspeethuisaanhuis.nl
X-WR-CALNAME:Gezamenlijke maaltijd
X-ALT-DESC;FMTTYPE=text/html:<a href='/agenda/2026/3/19/gezamenlijke-maaltijd-53049'>/agenda/2026/3/19/gezamenlijke-maaltijd-53049</a> || <p>Elke eerste zaterdag van de maand wordt in het Kulturhus in Elspeet een gezellige ontmoetingsmaaltijd gehouden voor alle leeftijden. De bijeenkomst biedt inwoners de gelegenheid om samen te eten en bij te praten in een ongedwongen sfeer. Voor een vast bedrag van 10 euro wordt een volledige maaltijd geserveerd, inclusief consumpties en koffie of thee.</p>
DESCRIPTION:<a href='/agenda/2026/3/19/gezamenlijke-maaltijd-53049'>/agenda/2026/3/19/gezamenlijke-maaltijd-53049</a> || <p>Elke eerste zaterdag van de maand wordt in het Kulturhus in Elspeet een gezellige ontmoetingsmaaltijd gehouden voor alle leeftijden. De bijeenkomst biedt inwoners de gelegenheid om samen te eten en bij te praten in een ongedwongen sfeer. Voor een vast bedrag van 10 euro wordt een volledige maaltijd geserveerd, inclusief consumpties en koffie of thee.</p>
LAST-MODIFIED:20260422T205214Z
LOCATION: Kulturhus | Nachtegaalweg 2 Elspeet
SEQUENCE:0
STATUS:CONFIRMED
SUMMARY:Gezamenlijke maaltijd
TRANSP:OPAQUE
END:VEVENT
END:VCALENDAR
