BEGIN:VCALENDAR
PRODID:-//PUBBLE//agenda//NL
VERSION:2.0
METHOD:PUBLISH
BEGIN:VEVENT
DTSTART:20260509T060000Z
DTEND:20260509T110000Z
DTSTAMP:20260422T205014Z
UID:a4953571-c06a-4b6c-96e8-d2dd78901137
CREATED:20260422T205014Z
NAME:Meimaand Fietsmaand: Nationale Molendag en Viermolenroute nunspeethuisaanhuis.nl
X-WR-CALNAME:Meimaand Fietsmaand: Nationale Molendag en Viermolenroute
X-ALT-DESC;FMTTYPE=text/html:<a href='/agenda/2026/5/9/meimaand-fietsmaand-nationale-molendag-en-viermolenroute-53061'>/agenda/2026/5/9/meimaand-fietsmaand-nationale-molendag-en-viermolenroute-53061</a> || <p data-path-to-node="1">Tijdens de Nationale Molendag kunnen liefhebbers de authentieke sfeer van historische molens ervaren via de speciale Viermolenroute door de gemeente Nunspeet en Staverden. Bij Molen de Duif geven molenaars demonstraties van het maalproces op windkracht en vertellen zij over de werking van dit ambachtelijke werktuig. Ook de molens De Maagd, De Hoop en de watermolen in Staverden maken deel uit van deze route, die uitstekend aansluit bij de Meimaand Fietsmaand.</p>
DESCRIPTION:<a href='/agenda/2026/5/9/meimaand-fietsmaand-nationale-molendag-en-viermolenroute-53061'>/agenda/2026/5/9/meimaand-fietsmaand-nationale-molendag-en-viermolenroute-53061</a> || <p data-path-to-node="1">Tijdens de Nationale Molendag kunnen liefhebbers de authentieke sfeer van historische molens ervaren via de speciale Viermolenroute door de gemeente Nunspeet en Staverden. Bij Molen de Duif geven molenaars demonstraties van het maalproces op windkracht en vertellen zij over de werking van dit ambachtelijke werktuig. Ook de molens De Maagd, De Hoop en de watermolen in Staverden maken deel uit van deze route, die uitstekend aansluit bij de Meimaand Fietsmaand.</p>
LAST-MODIFIED:20260422T205014Z
LOCATION: Molen De Duif | Molenweg 91 Nunspeet
SEQUENCE:0
STATUS:CONFIRMED
SUMMARY:Meimaand Fietsmaand: Nationale Molendag en Viermolenroute
TRANSP:OPAQUE
END:VEVENT
END:VCALENDAR
