BEGIN:VCALENDAR
PRODID:-//PUBBLE//agenda//NL
VERSION:2.0
METHOD:PUBLISH
BEGIN:VEVENT
DTSTART:20260325T111023Z
DTEND:20260325T121023Z
DTSTAMP:20260422T205429Z
UID:dc59fa9d-1eec-453b-9ec1-3f3a14fd0ef7
CREATED:20260422T205429Z
NAME:Open avond over hulpdiensten in Nunspeet nunspeethuisaanhuis.nl
X-WR-CALNAME:Open avond over hulpdiensten in Nunspeet
X-ALT-DESC;FMTTYPE=text/html:<a href='/agenda/2026/4/22/open-avond-over-hulpdiensten-in-nunspeet-53246'>/agenda/2026/4/22/open-avond-over-hulpdiensten-in-nunspeet-53246</a> || <p>De SGP houdt een open avond over de rol van hulpdiensten in Nunspeet.&nbsp;</p><p>Panelleider is Harm Jan Polinder. De burgemeester neemt de mensen mee in haar rol als hoofd van de driehoek. Daarbij gaat ze ook in op de ervaringen die ze in de afgelopen jaren heeft opgedaan. Daarnaast delen Peter de Fijter (ambulance), William Qualm (brandweer) en Jonas van Hekezen (politie) hun ervaringen vanuit de praktijk.&nbsp;</p>
DESCRIPTION:<a href='/agenda/2026/4/22/open-avond-over-hulpdiensten-in-nunspeet-53246'>/agenda/2026/4/22/open-avond-over-hulpdiensten-in-nunspeet-53246</a> || <p>De SGP houdt een open avond over de rol van hulpdiensten in Nunspeet.&nbsp;</p><p>Panelleider is Harm Jan Polinder. De burgemeester neemt de mensen mee in haar rol als hoofd van de driehoek. Daarbij gaat ze ook in op de ervaringen die ze in de afgelopen jaren heeft opgedaan. Daarnaast delen Peter de Fijter (ambulance), William Qualm (brandweer) en Jonas van Hekezen (politie) hun ervaringen vanuit de praktijk.&nbsp;</p>
LAST-MODIFIED:20260422T205429Z
LOCATION: Brandweerkazerne | Elburgerweg 13 Nunspeet
SEQUENCE:0
STATUS:CONFIRMED
SUMMARY:Open avond over hulpdiensten in Nunspeet
TRANSP:OPAQUE
END:VEVENT
END:VCALENDAR
