BEGIN:VCALENDAR
PRODID:-//PUBBLE//agenda//NL
VERSION:2.0
METHOD:PUBLISH
BEGIN:VEVENT
DTSTART:20260327T124459Z
DTEND:20260425T120000Z
DTSTAMP:20260422T204609Z
UID:035ae44e-da66-4bfc-b041-6754a9a56362
CREATED:20260422T204609Z
NAME:Voorselectie online Kunst- & Antiek Veiling Rotaryclub Nunspeet nunspeethuisaanhuis.nl
X-WR-CALNAME:Voorselectie online Kunst- & Antiek Veiling Rotaryclub Nunspeet
X-ALT-DESC;FMTTYPE=text/html:<a href='/agenda/2026/4/25/voorselectie-online-kunst-antiek-veiling-rotaryclub-nunspeet-53330'>/agenda/2026/4/25/voorselectie-online-kunst-antiek-veiling-rotaryclub-nunspeet-53330</a> || <p>Door het succes van de drukbezochte editie in 2024 met ruim 200 veilingstukken, is er volgens de organisatie alle reden om de Rotaryclub Nunspeet Kunst- en Antiekveiling opnieuw te organiseren.&nbsp;</p><p>Meer informatie over de kunst- en antiekveiling van Rotaryclub Nunspeet is te verkrijgen bij Bram ten Hove: 06 - 19 73 89 86 of <a data-fr-linked="true" href="mailto:bramjr@homar.nl">bramjr@homar.nl</a>.</p>
DESCRIPTION:<a href='/agenda/2026/4/25/voorselectie-online-kunst-antiek-veiling-rotaryclub-nunspeet-53330'>/agenda/2026/4/25/voorselectie-online-kunst-antiek-veiling-rotaryclub-nunspeet-53330</a> || <p>Door het succes van de drukbezochte editie in 2024 met ruim 200 veilingstukken, is er volgens de organisatie alle reden om de Rotaryclub Nunspeet Kunst- en Antiekveiling opnieuw te organiseren.&nbsp;</p><p>Meer informatie over de kunst- en antiekveiling van Rotaryclub Nunspeet is te verkrijgen bij Bram ten Hove: 06 - 19 73 89 86 of <a data-fr-linked="true" href="mailto:bramjr@homar.nl">bramjr@homar.nl</a>.</p>
LAST-MODIFIED:20260422T204609Z
LOCATION: Noord-Veluws Kunstmuseum | Winckelweg 17a Nunspeet
SEQUENCE:0
STATUS:CONFIRMED
SUMMARY:Voorselectie online Kunst- & Antiek Veiling Rotaryclub Nunspeet
TRANSP:OPAQUE
END:VEVENT
END:VCALENDAR
