BEGIN:VCALENDAR
PRODID:-//PUBBLE//agenda//NL
VERSION:2.0
METHOD:PUBLISH
BEGIN:VEVENT
DTSTART:20260413T135719Z
DTEND:20260413T145719Z
DTSTAMP:20260422T205014Z
UID:56279345-4046-4e00-88f2-4822cf7d05e4
CREATED:20260422T205014Z
NAME:Lezing over het Kroondomein nunspeethuisaanhuis.nl
X-WR-CALNAME:Lezing over het Kroondomein
X-ALT-DESC;FMTTYPE=text/html:<a href='/agenda/2026/4/29/lezing-over-het-kroondomein-53839'>/agenda/2026/4/29/lezing-over-het-kroondomein-53839</a> || <p class="NEOPlatteTekstInleidingInitiaal" pstyle="NEO Platte Tekst Inleiding Initiaal">Jan Huttinga geeft een lezing over het Kroondomein. Huttinga is veertig jaar faunabeheerder geweest in dit gebied. Aanmelden kan via: www.nunspeetuitdekunst.nl/excursies-reserveren</p>
DESCRIPTION:<a href='/agenda/2026/4/29/lezing-over-het-kroondomein-53839'>/agenda/2026/4/29/lezing-over-het-kroondomein-53839</a> || <p class="NEOPlatteTekstInleidingInitiaal" pstyle="NEO Platte Tekst Inleiding Initiaal">Jan Huttinga geeft een lezing over het Kroondomein. Huttinga is veertig jaar faunabeheerder geweest in dit gebied. Aanmelden kan via: www.nunspeetuitdekunst.nl/excursies-reserveren</p>
LAST-MODIFIED:20260422T205014Z
LOCATION: Bezoekerscentrum Nunspeet | Plesmanlaan 2 Nunspeet
SEQUENCE:0
STATUS:CONFIRMED
SUMMARY:Lezing over het Kroondomein
TRANSP:OPAQUE
END:VEVENT
END:VCALENDAR
