BEGIN:VCALENDAR
PRODID:-//PUBBLE//agenda//NL
VERSION:2.0
METHOD:PUBLISH
BEGIN:VEVENT
DTSTART:20260416T122130Z
DTEND:20260416T132130Z
DTSTAMP:20260422T205147Z
UID:a00f6e8c-33e4-4019-99d3-d6c035eb1ecc
CREATED:20260422T205147Z
NAME:Fietstocht Meimaand Fietsmaand nunspeethuisaanhuis.nl
X-WR-CALNAME:Fietstocht Meimaand Fietsmaand
X-ALT-DESC;FMTTYPE=text/html:<a href='/agenda/2026/5/2/fietstocht-meimaand-fietsmaand-53923'>/agenda/2026/5/2/fietstocht-meimaand-fietsmaand-53923</a> || <p>Kulturhus Elspeet een gezellige en sportieve fietstocht voor jong en oud, onder het motto ‘Fiets mee in de Meimaand!’. Deelnemers kunnen kiezen uit drie routes van 10, 25 of 40 kilometer.</p><p>Aanmelden kan vóór 27 april via beheer@dorpshuiselspeet.nl of &nbsp;06 – 45 94 14 72.&nbsp;</p>
DESCRIPTION:<a href='/agenda/2026/5/2/fietstocht-meimaand-fietsmaand-53923'>/agenda/2026/5/2/fietstocht-meimaand-fietsmaand-53923</a> || <p>Kulturhus Elspeet een gezellige en sportieve fietstocht voor jong en oud, onder het motto ‘Fiets mee in de Meimaand!’. Deelnemers kunnen kiezen uit drie routes van 10, 25 of 40 kilometer.</p><p>Aanmelden kan vóór 27 april via beheer@dorpshuiselspeet.nl of &nbsp;06 – 45 94 14 72.&nbsp;</p>
LAST-MODIFIED:20260422T205147Z
LOCATION: Kulturhus | Nachtegaalweg 2 Elspeet
SEQUENCE:0
STATUS:CONFIRMED
SUMMARY:Fietstocht Meimaand Fietsmaand
TRANSP:OPAQUE
END:VEVENT
END:VCALENDAR
