BEGIN:VCALENDAR
PRODID:-//PUBBLE//agenda//NL
VERSION:2.0
METHOD:PUBLISH
BEGIN:VEVENT
DTSTART:20260420T114847Z
DTEND:20260420T124847Z
DTSTAMP:20260422T205214Z
UID:c9b8587e-be37-4c51-a8ba-c4d976418eb4
CREATED:20260422T205214Z
NAME:Bingoavond in Elburg voor Nunspeetse stichting AirForAll nunspeethuisaanhuis.nl
X-WR-CALNAME:Bingoavond in Elburg voor Nunspeetse stichting AirForAll
X-ALT-DESC;FMTTYPE=text/html:<a href='/agenda/2026/5/28/bingoavond-in-elburg-voor-nunspeetse-stichting-airforall-54079'>/agenda/2026/5/28/bingoavond-in-elburg-voor-nunspeetse-stichting-airforall-54079</a> || <p>De opbrengst van deze bingo komt volledig ten goede aan stichting AirForAll, waarmee oprichters Kim Pap-Morren en Marilyn Scheurwater uit Nunspeet zich inzetten voor meer onderzoek naar taaislijmziekte.&nbsp;</p>
DESCRIPTION:<a href='/agenda/2026/5/28/bingoavond-in-elburg-voor-nunspeetse-stichting-airforall-54079'>/agenda/2026/5/28/bingoavond-in-elburg-voor-nunspeetse-stichting-airforall-54079</a> || <p>De opbrengst van deze bingo komt volledig ten goede aan stichting AirForAll, waarmee oprichters Kim Pap-Morren en Marilyn Scheurwater uit Nunspeet zich inzetten voor meer onderzoek naar taaislijmziekte.&nbsp;</p>
LAST-MODIFIED:20260422T205214Z
LOCATION: De Haas | Jufferenstraat 21 Elburg
SEQUENCE:0
STATUS:CONFIRMED
SUMMARY:Bingoavond in Elburg voor Nunspeetse stichting AirForAll
TRANSP:OPAQUE
END:VEVENT
END:VCALENDAR
