BEGIN:VCALENDAR
PRODID:-//PUBBLE//agenda//NL
VERSION:2.0
METHOD:PUBLISH
BEGIN:VEVENT
DTSTART:20260420T121951Z
DTEND:20260420T131951Z
DTSTAMP:20260422T204430Z
UID:7b31de78-0087-46d3-94f6-402b4db8a741
CREATED:20260422T204430Z
NAME:Open avond bij de brandweer nunspeethuisaanhuis.nl
X-WR-CALNAME:Open avond bij de brandweer
X-ALT-DESC;FMTTYPE=text/html:<a href='/agenda/2026/4/22/open-avond-bij-de-brandweer-54090'>/agenda/2026/4/22/open-avond-bij-de-brandweer-54090</a> || <p>De SGP houdt een open avond rond de hulpdiensten.&nbsp;</p><p>Iedereen mag luisteren, maar ook meepraten over de rol die ambulance, brandweer en politie spelen bij hulpverlening en tegen welke problemen ze in de praktijk aanlopen.</p>
DESCRIPTION:<a href='/agenda/2026/4/22/open-avond-bij-de-brandweer-54090'>/agenda/2026/4/22/open-avond-bij-de-brandweer-54090</a> || <p>De SGP houdt een open avond rond de hulpdiensten.&nbsp;</p><p>Iedereen mag luisteren, maar ook meepraten over de rol die ambulance, brandweer en politie spelen bij hulpverlening en tegen welke problemen ze in de praktijk aanlopen.</p>
LAST-MODIFIED:20260422T204430Z
LOCATION: Brandweerkazerne | Elburgerweg 13 Nunspeet
SEQUENCE:0
STATUS:CONFIRMED
SUMMARY:Open avond bij de brandweer
TRANSP:OPAQUE
END:VEVENT
END:VCALENDAR
