BEGIN:VCALENDAR
PRODID:-//PUBBLE//agenda//NL
VERSION:2.0
METHOD:PUBLISH
BEGIN:VEVENT
DTSTART:20260420T131157Z
DTEND:20260502T150000Z
DTSTAMP:20260422T204720Z
UID:fe6a1839-156d-44ee-bb9f-032c6a8b14b0
CREATED:20260422T204720Z
NAME:Gastenprogramma Ahmadiyya Moslim Gemeenschap nunspeethuisaanhuis.nl
X-WR-CALNAME:Gastenprogramma Ahmadiyya Moslim Gemeenschap
X-ALT-DESC;FMTTYPE=text/html:<a href='/agenda/2026/5/2/gastenprogramma-ahmadiyya-moslim-gemeenschap-54094'>/agenda/2026/5/2/gastenprogramma-ahmadiyya-moslim-gemeenschap-54094</a> || <p>De Ahmadiyya Moslim Gemeenschap houdt op 1, 2 en 3 mei haar jaarlijkse bijeenkomst, de Jalsa Salana. <br />Op zaterdag 2 mei is er een speciaal programma voor gasten. Tijdens deze middag kunnen mensen kennismaken met de gemeenschap, luisteren naar diverse toespraken over vrede en rechtvaardigheid, en is er ruimte voor dialoog. <br />De toegang is gratis. We wordt het gewaardeerd als gasten zich vooraf aanmelden door te mailen naar info@islamnu.nl of bellen naar 06-44 33 02 30 (Abdul Basit). </p>
DESCRIPTION:<a href='/agenda/2026/5/2/gastenprogramma-ahmadiyya-moslim-gemeenschap-54094'>/agenda/2026/5/2/gastenprogramma-ahmadiyya-moslim-gemeenschap-54094</a> || <p>De Ahmadiyya Moslim Gemeenschap houdt op 1, 2 en 3 mei haar jaarlijkse bijeenkomst, de Jalsa Salana. <br />Op zaterdag 2 mei is er een speciaal programma voor gasten. Tijdens deze middag kunnen mensen kennismaken met de gemeenschap, luisteren naar diverse toespraken over vrede en rechtvaardigheid, en is er ruimte voor dialoog. <br />De toegang is gratis. We wordt het gewaardeerd als gasten zich vooraf aanmelden door te mailen naar info@islamnu.nl of bellen naar 06-44 33 02 30 (Abdul Basit). </p>
LAST-MODIFIED:20260422T204720Z
LOCATION: Het Frusselt 30 | 't Frusselt 30 Vierhouten
SEQUENCE:0
STATUS:CONFIRMED
SUMMARY:Gastenprogramma Ahmadiyya Moslim Gemeenschap
TRANSP:OPAQUE
END:VEVENT
END:VCALENDAR
