BEGIN:VCALENDAR
PRODID:-//PUBBLE//agenda//NL
VERSION:2.0
METHOD:PUBLISH
BEGIN:VEVENT
DTSTART:20260421T133953Z
DTEND:20260421T143953Z
DTSTAMP:20260423T002116Z
UID:1c511f3d-33e1-4d88-a24b-6c9af7cc9c1c
CREATED:20260423T002116Z
NAME:Herdenking 415 oud-AJC’ers bij Paasheuvel Vierhouten nunspeethuisaanhuis.nl
X-WR-CALNAME:Herdenking 415 oud-AJC’ers bij Paasheuvel Vierhouten
X-ALT-DESC;FMTTYPE=text/html:<a href='/agenda/2026/5/4/herdenking-415-oud-ajcers-bij-paasheuvel-vierhouten-54114'>/agenda/2026/5/4/herdenking-415-oud-ajcers-bij-paasheuvel-vierhouten-54114</a> || <p>Bij de Paasheuvel in Vierhouten wordt de jaarlijkse herdenking gehouden van 415 oud-leden van de Arbeiders Jeugd Centrale (AJC) die omkwamen door oorlog en onderdrukking .Het stiltemoment is om 20.00 uur.</p><p class="special_container" pstyle="special_container">AJC’ers waren leden van de Arbeiders Jeugd Centrale, een historische club waar jongeren samenwerkten aan hun ontwikkeling en idealen. Het was eigenlijk de scouting, maar dan speciaal voor kinderen uit rode arbeidersgezinnen die de wereld wilden verbeteren.</p>
DESCRIPTION:<a href='/agenda/2026/5/4/herdenking-415-oud-ajcers-bij-paasheuvel-vierhouten-54114'>/agenda/2026/5/4/herdenking-415-oud-ajcers-bij-paasheuvel-vierhouten-54114</a> || <p>Bij de Paasheuvel in Vierhouten wordt de jaarlijkse herdenking gehouden van 415 oud-leden van de Arbeiders Jeugd Centrale (AJC) die omkwamen door oorlog en onderdrukking .Het stiltemoment is om 20.00 uur.</p><p class="special_container" pstyle="special_container">AJC’ers waren leden van de Arbeiders Jeugd Centrale, een historische club waar jongeren samenwerkten aan hun ontwikkeling en idealen. Het was eigenlijk de scouting, maar dan speciaal voor kinderen uit rode arbeidersgezinnen die de wereld wilden verbeteren.</p>
LAST-MODIFIED:20260423T002116Z
LOCATION: Het Frusselt 30 | 't Frusselt 30 Vierhouten
SEQUENCE:0
STATUS:CONFIRMED
SUMMARY:Herdenking 415 oud-AJC’ers bij Paasheuvel Vierhouten
TRANSP:OPAQUE
END:VEVENT
END:VCALENDAR
