BEGIN:VCALENDAR
PRODID:-//PUBBLE//agenda//NL
VERSION:2.0
METHOD:PUBLISH
BEGIN:VEVENT
DTSTART:20260422T115920Z
DTEND:20260527T133000Z
DTSTAMP:20260422T223533Z
UID:d47ab870-a5de-465c-b1d6-9d21f9ea05d7
CREATED:20260422T223533Z
NAME:Jaarlijkse Kunst-Kijk-Loting KunstKring Nunspeet nunspeethuisaanhuis.nl
X-WR-CALNAME:Jaarlijkse Kunst-Kijk-Loting KunstKring Nunspeet
X-ALT-DESC;FMTTYPE=text/html:<a href='/agenda/2026/5/1/jaarlijkse-kunst-kijk-loting-kunstkring-nunspeet-54149'>/agenda/2026/5/1/jaarlijkse-kunst-kijk-loting-kunstkring-nunspeet-54149</a> || <p data-path-to-node="0">Tijdens de jaarlijkse Kunst-Kijk-Loting presenteren lokale kunstenaars vierentwintig nieuwe kunstwerken waar bezoekers op kunnen stemmen. Door een stem uit te brengen, maken deelnemers kans om het winnende kunstwerk mee naar huis te nemen. De winnende kunstenaar ontvangt 500 euro. Stemmen is mogelijk via de stembus die in de hal van de expositieruimte staat opgesteld.</p>
DESCRIPTION:<a href='/agenda/2026/5/1/jaarlijkse-kunst-kijk-loting-kunstkring-nunspeet-54149'>/agenda/2026/5/1/jaarlijkse-kunst-kijk-loting-kunstkring-nunspeet-54149</a> || <p data-path-to-node="0">Tijdens de jaarlijkse Kunst-Kijk-Loting presenteren lokale kunstenaars vierentwintig nieuwe kunstwerken waar bezoekers op kunnen stemmen. Door een stem uit te brengen, maken deelnemers kans om het winnende kunstwerk mee naar huis te nemen. De winnende kunstenaar ontvangt 500 euro. Stemmen is mogelijk via de stembus die in de hal van de expositieruimte staat opgesteld.</p>
LAST-MODIFIED:20260422T223533Z
LOCATION: Gemeentehuis Nunspeet | Markt 1 Nunspeet
SEQUENCE:0
STATUS:CONFIRMED
SUMMARY:Jaarlijkse Kunst-Kijk-Loting KunstKring Nunspeet
TRANSP:OPAQUE
END:VEVENT
END:VCALENDAR
