BEGIN:VCALENDAR
PRODID:-//PUBBLE//agenda//NL
VERSION:2.0
METHOD:PUBLISH
BEGIN:VEVENT
DTSTART:20260422T120516Z
DTEND:20260502T140000Z
DTSTAMP:20260423T002559Z
UID:0e9d9d3b-ed49-4ad9-b440-7d755c73e9c7
CREATED:20260423T002559Z
NAME:Lentemarkt bij Molen de Duif in Nunspeet nunspeethuisaanhuis.nl
X-WR-CALNAME:Lentemarkt bij Molen de Duif in Nunspeet
X-ALT-DESC;FMTTYPE=text/html:<a href='/agenda/2026/5/2/lentemarkt-bij-molen-de-duif-in-nunspeet-54150'>/agenda/2026/5/2/lentemarkt-bij-molen-de-duif-in-nunspeet-54150</a> || <p data-path-to-node="0">Molen De Duif houdt een Lentemarkt met diverse kramen, streekproducten en activiteiten voor kinderen. De volledige opbrengst van de catering is bestemd voor het onderhoudsfonds van de molen, die tijdens de markt ook gratis te bezichtigen is. Bezoekers kunnen voor meer informatie ter plekke terecht bij de organisatie of de molenaars.</p>
DESCRIPTION:<a href='/agenda/2026/5/2/lentemarkt-bij-molen-de-duif-in-nunspeet-54150'>/agenda/2026/5/2/lentemarkt-bij-molen-de-duif-in-nunspeet-54150</a> || <p data-path-to-node="0">Molen De Duif houdt een Lentemarkt met diverse kramen, streekproducten en activiteiten voor kinderen. De volledige opbrengst van de catering is bestemd voor het onderhoudsfonds van de molen, die tijdens de markt ook gratis te bezichtigen is. Bezoekers kunnen voor meer informatie ter plekke terecht bij de organisatie of de molenaars.</p>
LAST-MODIFIED:20260423T002559Z
LOCATION: Molen De Duif | Molenweg 91 Nunspeet
SEQUENCE:0
STATUS:CONFIRMED
SUMMARY:Lentemarkt bij Molen de Duif in Nunspeet
TRANSP:OPAQUE
END:VEVENT
END:VCALENDAR
